BEGIN:VCALENDAR
VERSION:2.0
PRODID:-//Tennis - Royal Club Sportif Verviétois - ECPv6.15.20//NONSGML v1.0//EN
CALSCALE:GREGORIAN
METHOD:PUBLISH
X-WR-CALNAME:Tennis - Royal Club Sportif Verviétois
X-ORIGINAL-URL:https://www.rcsvtennis.be
X-WR-CALDESC:Évènements pour Tennis - Royal Club Sportif Verviétois
REFRESH-INTERVAL;VALUE=DURATION:PT1H
X-Robots-Tag:noindex
X-PUBLISHED-TTL:PT1H
BEGIN:VTIMEZONE
TZID:Europe/Brussels
BEGIN:DAYLIGHT
TZOFFSETFROM:+0100
TZOFFSETTO:+0200
TZNAME:CEST
DTSTART:20250330T010000
END:DAYLIGHT
BEGIN:STANDARD
TZOFFSETFROM:+0200
TZOFFSETTO:+0100
TZNAME:CET
DTSTART:20251026T010000
END:STANDARD
BEGIN:DAYLIGHT
TZOFFSETFROM:+0100
TZOFFSETTO:+0200
TZNAME:CEST
DTSTART:20260329T010000
END:DAYLIGHT
BEGIN:STANDARD
TZOFFSETFROM:+0200
TZOFFSETTO:+0100
TZNAME:CET
DTSTART:20261025T010000
END:STANDARD
BEGIN:DAYLIGHT
TZOFFSETFROM:+0100
TZOFFSETTO:+0200
TZNAME:CEST
DTSTART:20270328T010000
END:DAYLIGHT
BEGIN:STANDARD
TZOFFSETFROM:+0200
TZOFFSETTO:+0100
TZNAME:CET
DTSTART:20271031T010000
END:STANDARD
END:VTIMEZONE
BEGIN:VEVENT
DTSTART;VALUE=DATE:20260420
DTEND;VALUE=DATE:20260421
DTSTAMP:20260420T082706
CREATED:20260304T094657Z
LAST-MODIFIED:20260308T202930Z
UID:28617-1776643200-1776729599@www.rcsvtennis.be
SUMMARY:Début des cours été 2026
DESCRIPTION:C’est parti ! Les moniteurs\, remontés à bloc\, sont prêts à vous accueillir sur les terrains.\nLes premiers chanceux commencent dès le lundi 20 avril.
URL:https://www.rcsvtennis.be/event/debut-des-cours-ete-2026
LOCATION:Tennis Club\, Rue Carl Grün 150\, Stembert\, 4801\, Belgique
CATEGORIES:Ecole de tennis
ORGANIZER;CN="Tennis Touch":MAILTO:tennis.touch@hotmail.com
END:VEVENT
END:VCALENDAR