BEGIN:VCALENDAR
VERSION:2.0
PRODID:-//Tennis - Royal Club Sportif Verviétois - ECPv6.15.20//NONSGML v1.0//EN
CALSCALE:GREGORIAN
METHOD:PUBLISH
X-ORIGINAL-URL:https://www.rcsvtennis.be
X-WR-CALDESC:Évènements pour Tennis - Royal Club Sportif Verviétois
REFRESH-INTERVAL;VALUE=DURATION:PT1H
X-Robots-Tag:noindex
X-PUBLISHED-TTL:PT1H
BEGIN:VTIMEZONE
TZID:Europe/Brussels
BEGIN:DAYLIGHT
TZOFFSETFROM:+0100
TZOFFSETTO:+0200
TZNAME:CEST
DTSTART:20250330T010000
END:DAYLIGHT
BEGIN:STANDARD
TZOFFSETFROM:+0200
TZOFFSETTO:+0100
TZNAME:CET
DTSTART:20251026T010000
END:STANDARD
BEGIN:DAYLIGHT
TZOFFSETFROM:+0100
TZOFFSETTO:+0200
TZNAME:CEST
DTSTART:20260329T010000
END:DAYLIGHT
BEGIN:STANDARD
TZOFFSETFROM:+0200
TZOFFSETTO:+0100
TZNAME:CET
DTSTART:20261025T010000
END:STANDARD
BEGIN:DAYLIGHT
TZOFFSETFROM:+0100
TZOFFSETTO:+0200
TZNAME:CEST
DTSTART:20270328T010000
END:DAYLIGHT
BEGIN:STANDARD
TZOFFSETFROM:+0200
TZOFFSETTO:+0100
TZNAME:CET
DTSTART:20271031T010000
END:STANDARD
END:VTIMEZONE
BEGIN:VEVENT
DTSTART;TZID=Europe/Brussels:20260806T080000
DTEND;TZID=Europe/Brussels:20260816T220000
DTSTAMP:20260420T110233
CREATED:20260304T103809Z
LAST-MODIFIED:20260308T203208Z
UID:28635-1786003200-1786917600@www.rcsvtennis.be
SUMMARY:1er Tournoi du Pano
DESCRIPTION:Tournoi Pano 1 2026  \nDu 06 au 16 août 2026. \nN’oubliez pas de vous inscrire ! \n 
URL:https://www.rcsvtennis.be/event/1er-tournoi-du-pano
LOCATION:Tennis Club\, Rue Carl Grün 150\, Stembert\, 4801\, Belgique
CATEGORIES:Activités du Club,Comité
ORGANIZER;CN="Tennis RCSV":MAILTO:tennisrcsv@gmail.com
END:VEVENT
BEGIN:VEVENT
DTSTART;TZID=Europe/Brussels:20260820T080000
DTEND;TZID=Europe/Brussels:20260830T220000
DTSTAMP:20260420T110233
CREATED:20260304T103954Z
LAST-MODIFIED:20260308T203240Z
UID:28641-1787212800-1788127200@www.rcsvtennis.be
SUMMARY:2ème Tournoi du Pano
DESCRIPTION:Tournoi Pano 2 2026 \nDu 20 au 30 août 2026. \nN’oubliez pas de vous inscrire ! \n 
URL:https://www.rcsvtennis.be/event/2eme-tournoi-du-pano
LOCATION:Tennis Club\, Rue Carl Grün 150\, Stembert\, 4801\, Belgique
CATEGORIES:Activités du Club,Comité
ORGANIZER;CN="Tennis RCSV":MAILTO:tennisrcsv@gmail.com
END:VEVENT
END:VCALENDAR