BEGIN:VCALENDAR
VERSION:2.0
PRODID:-//Tennis - Royal Club Sportif Verviétois - ECPv6.15.20//NONSGML v1.0//EN
CALSCALE:GREGORIAN
METHOD:PUBLISH
X-ORIGINAL-URL:https://www.rcsvtennis.be
X-WR-CALDESC:Évènements pour Tennis - Royal Club Sportif Verviétois
REFRESH-INTERVAL;VALUE=DURATION:PT1H
X-Robots-Tag:noindex
X-PUBLISHED-TTL:PT1H
BEGIN:VTIMEZONE
TZID:Europe/Brussels
BEGIN:DAYLIGHT
TZOFFSETFROM:+0100
TZOFFSETTO:+0200
TZNAME:CEST
DTSTART:20250330T010000
END:DAYLIGHT
BEGIN:STANDARD
TZOFFSETFROM:+0200
TZOFFSETTO:+0100
TZNAME:CET
DTSTART:20251026T010000
END:STANDARD
BEGIN:DAYLIGHT
TZOFFSETFROM:+0100
TZOFFSETTO:+0200
TZNAME:CEST
DTSTART:20260329T010000
END:DAYLIGHT
BEGIN:STANDARD
TZOFFSETFROM:+0200
TZOFFSETTO:+0100
TZNAME:CET
DTSTART:20261025T010000
END:STANDARD
BEGIN:DAYLIGHT
TZOFFSETFROM:+0100
TZOFFSETTO:+0200
TZNAME:CEST
DTSTART:20270328T010000
END:DAYLIGHT
BEGIN:STANDARD
TZOFFSETFROM:+0200
TZOFFSETTO:+0100
TZNAME:CET
DTSTART:20271031T010000
END:STANDARD
END:VTIMEZONE
BEGIN:VEVENT
DTSTART;TZID=Europe/Brussels:20260425T080000
DTEND;TZID=Europe/Brussels:20260524T170000
DTSTAMP:20260420T082953
CREATED:20260304T100252Z
LAST-MODIFIED:20260304T100252Z
UID:28621-1777104000-1779642000@www.rcsvtennis.be
SUMMARY:Début des interclubs Dames et Messieurs
DESCRIPTION:Allez Allez\, on est au taquet ! \nL’équipe est surmotivée\, les joueurs sont prêts à en découdre !
URL:https://www.rcsvtennis.be/event/debut-des-interclubs-dames-et-messieurs
LOCATION:Tennis Club\, Rue Carl Grün 150\, Stembert\, 4801\, Belgique
CATEGORIES:Activités du Club,Comité
ORGANIZER;CN="Tennis RCSV":MAILTO:tennisrcsv@gmail.com
END:VEVENT
END:VCALENDAR