BEGIN:VCALENDAR
VERSION:2.0
PRODID:-//Tennis - Royal Club Sportif Verviétois - ECPv6.15.20//NONSGML v1.0//EN
CALSCALE:GREGORIAN
METHOD:PUBLISH
X-WR-CALNAME:Tennis - Royal Club Sportif Verviétois
X-ORIGINAL-URL:https://www.rcsvtennis.be
X-WR-CALDESC:Évènements pour Tennis - Royal Club Sportif Verviétois
REFRESH-INTERVAL;VALUE=DURATION:PT1H
X-Robots-Tag:noindex
X-PUBLISHED-TTL:PT1H
BEGIN:VTIMEZONE
TZID:Europe/Brussels
BEGIN:DAYLIGHT
TZOFFSETFROM:+0100
TZOFFSETTO:+0200
TZNAME:CEST
DTSTART:20250330T010000
END:DAYLIGHT
BEGIN:STANDARD
TZOFFSETFROM:+0200
TZOFFSETTO:+0100
TZNAME:CET
DTSTART:20251026T010000
END:STANDARD
BEGIN:DAYLIGHT
TZOFFSETFROM:+0100
TZOFFSETTO:+0200
TZNAME:CEST
DTSTART:20260329T010000
END:DAYLIGHT
BEGIN:STANDARD
TZOFFSETFROM:+0200
TZOFFSETTO:+0100
TZNAME:CET
DTSTART:20261025T010000
END:STANDARD
BEGIN:DAYLIGHT
TZOFFSETFROM:+0100
TZOFFSETTO:+0200
TZNAME:CEST
DTSTART:20270328T010000
END:DAYLIGHT
BEGIN:STANDARD
TZOFFSETFROM:+0200
TZOFFSETTO:+0100
TZNAME:CET
DTSTART:20271031T010000
END:STANDARD
END:VTIMEZONE
BEGIN:VEVENT
DTSTART;TZID=Europe/Brussels:20260912T130000
DTEND;TZID=Europe/Brussels:20260912T190000
DTSTAMP:20260422T113232
CREATED:20260304T102331Z
LAST-MODIFIED:20260304T102331Z
UID:28633-1789218000-1789239600@www.rcsvtennis.be
SUMMARY:Tournoi des amis 2026
DESCRIPTION:Tournoi amicale au sein de notre club pour terminer doucement la saison. \nHistoriquement connu sous le nom de tournoi des famille\, ce petit tournoi vous permet d’inviter un ami extérieur au club afin de passer du bon temps avec lui sur le terrains face à d’autres paires de doubles. \nAprès-midi super conviviale\, lot à remporter. \nN’hésitez pas à venir boire un bon verre même si vous ne jouez pas !
URL:https://www.rcsvtennis.be/event/tournoi-des-amis-2026
LOCATION:Tennis Club\, Rue Carl Grün 150\, Stembert\, 4801\, Belgique
CATEGORIES:Activités du Club,Comité
ORGANIZER;CN="Tennis RCSV":MAILTO:tennisrcsv@gmail.com
END:VEVENT
END:VCALENDAR